BEGIN:VCALENDAR
VERSION:2.0
PRODID:-//People&#039;s Trust for Endangered Species - ECPv6.15.14//NONSGML v1.0//EN
CALSCALE:GREGORIAN
METHOD:PUBLISH
X-ORIGINAL-URL:https://ptes.org
X-WR-CALDESC:Events for People&#039;s Trust for Endangered Species
REFRESH-INTERVAL;VALUE=DURATION:PT1H
X-Robots-Tag:noindex
X-PUBLISHED-TTL:PT1H
BEGIN:VTIMEZONE
TZID:UTC
BEGIN:STANDARD
TZOFFSETFROM:+0000
TZOFFSETTO:+0000
TZNAME:UTC
DTSTART:20200101T000000
END:STANDARD
END:VTIMEZONE
BEGIN:VEVENT
DTSTART;TZID=UTC:20211023T130000
DTEND;TZID=UTC:20211023T160000
DTSTAMP:20260422T150744
CREATED:20211008T104532Z
LAST-MODIFIED:20211008T104532Z
UID:54741-1634994000-1635004800@ptes.org
SUMMARY:The Friends of Rose Vale Park
DESCRIPTION:Come and meet The Friends of Rose Vale Park and The Orchard Project team. Juice some apples on our fantastical machine PedalPedalSquishSquish and be entertained with Apple Themed Stories with professional storyteller Susie Oldfield.
URL:https://ptes.org/event/the-friends-of-rose-vale-park/
LOCATION:Rosevale Park\, Heald Green\, Cheadle\, Stockport\, SK8 3RN
CATEGORIES:Apple day events and orchard courses
GEO:53.3743359;-2.2333415
X-APPLE-STRUCTURED-LOCATION;VALUE=URI;X-ADDRESS=Rosevale Park Heald Green Cheadle Stockport SK8 3RN;X-APPLE-RADIUS=500;X-TITLE=Heald Green:geo:-2.2333415,53.3743359
END:VEVENT
BEGIN:VEVENT
DTSTART;TZID=UTC:20210808T130000
DTEND;TZID=UTC:20210808T160000
DTSTAMP:20260422T150744
CREATED:20210730T110401Z
LAST-MODIFIED:20210730T110401Z
UID:54409-1628427600-1628438400@ptes.org
SUMMARY:Stories in the Orchard – Rosevale Park\, Stockport
DESCRIPTION:You bring the picnic\, we’ll bring the entertainment\, all while the grown-ups crack on with some wider park green-space restoration works. \nABOUT THIS EVENT\n\n\nCome down to Rose Vale Park\, Heald Green for an afternoon picnic and storytelling with Susie Oldfield. Hosted by The Orchard Project. \nOr get stuck in with The Friends of Rosevale Park team as they tackle some clearance works in the woodland area and have a general spruce-up of the park. \nWe’re taking bookings of four people (inc kids and adults) per picnic mat. No need to bring your own. Our amazing storyteller\, Susie Oldfield\, will be ready to engage you in some fruity folk tales\, splendiferous stories\, murky myths and loopy legends. Choose the afternoon slot that suits you and your family best and we’ll do the entertaining. \n\nSee the link for more details and to book tickets.
URL:https://ptes.org/event/stories-in-the-orchard-rosevale-park-stockport/
LOCATION:Rosevale Park\, Heald Green\, Cheadle\, Stockport\, SK8 3RN
CATEGORIES:Apple day events and orchard courses
ORGANIZER;CN="The Orchard Project":MAILTO:orchard@theorchardproject.org.uk
GEO:53.3743359;-2.2333415
X-APPLE-STRUCTURED-LOCATION;VALUE=URI;X-ADDRESS=Rosevale Park Heald Green Cheadle Stockport SK8 3RN;X-APPLE-RADIUS=500;X-TITLE=Heald Green:geo:-2.2333415,53.3743359
END:VEVENT
END:VCALENDAR