BEGIN:VCALENDAR
VERSION:2.0
PRODID:-//People&#039;s Trust for Endangered Species - ECPv6.15.14//NONSGML v1.0//EN
CALSCALE:GREGORIAN
METHOD:PUBLISH
X-ORIGINAL-URL:https://ptes.org
X-WR-CALDESC:Events for People&#039;s Trust for Endangered Species
REFRESH-INTERVAL;VALUE=DURATION:PT1H
X-Robots-Tag:noindex
X-PUBLISHED-TTL:PT1H
BEGIN:VTIMEZONE
TZID:UTC
BEGIN:STANDARD
TZOFFSETFROM:+0000
TZOFFSETTO:+0000
TZNAME:UTC
DTSTART:20180101T000000
END:STANDARD
END:VTIMEZONE
BEGIN:VEVENT
DTSTART;VALUE=DATE:20190824
DTEND;VALUE=DATE:20190827
DTSTAMP:20260423T112903
CREATED:20190710T125535Z
LAST-MODIFIED:20190814T081226Z
UID:47129-1566604800-1566863999@ptes.org
SUMMARY:Pershore Plum Festival\, National Plum Day
DESCRIPTION:More information on Gloucestershire plums\, damsons and cherries see\nGlos Orchards website \nPlease also see our shop to purchase Charles Martell’s Native Plums of Gloucestershire pomona\, published by GOT and Hartpury Heritage Trust. \nTo purchase rare Gloucestershire plums and damsons\, see Glos Orchards \nWalcot Organic Nursery\, have been commissioned to stock the rare ones: \nAvailable winter 2019/2020 bare-rooted season but do look at the website now. \nDamson Guide\nFascinating comprehensive guide (sixty-seven pages) to damsons and other relevant links
URL:https://ptes.org/event/pershore-plum-festival-national-plum-day/
LOCATION:Pershore\, High Street\, Pershore\, Worcestershire\, WR10 1AE
CATEGORIES:Apple day events and orchard courses
GEO:52.1123234;-2.0761782
X-APPLE-STRUCTURED-LOCATION;VALUE=URI;X-ADDRESS=Pershore High Street Pershore Worcestershire WR10 1AE;X-APPLE-RADIUS=500;X-TITLE=High Street:geo:-2.0761782,52.1123234
END:VEVENT
END:VCALENDAR