BEGIN:VCALENDAR
VERSION:2.0
PRODID:-//People&#039;s Trust for Endangered Species - ECPv6.15.14//NONSGML v1.0//EN
CALSCALE:GREGORIAN
METHOD:PUBLISH
X-ORIGINAL-URL:https://ptes.org
X-WR-CALDESC:Events for People&#039;s Trust for Endangered Species
REFRESH-INTERVAL;VALUE=DURATION:PT1H
X-Robots-Tag:noindex
X-PUBLISHED-TTL:PT1H
BEGIN:VTIMEZONE
TZID:UTC
BEGIN:STANDARD
TZOFFSETFROM:+0000
TZOFFSETTO:+0000
TZNAME:UTC
DTSTART:20230101T000000
END:STANDARD
END:VTIMEZONE
BEGIN:VEVENT
DTSTART;TZID=UTC:20240507T180000
DTEND;TZID=UTC:20240507T190000
DTSTAMP:20260419T103647
CREATED:20240409T093103Z
LAST-MODIFIED:20240416T135745Z
UID:59227-1715104800-1715108400@ptes.org
SUMMARY:An Evening with Hedgehog Street: NHMP special – Tuesday 7th May 2024
DESCRIPTION:Book tickets now\nThis Hedgehog Awareness Week\, we’re delighted to bring you another instalment of An Evening with Hedgehog Street. In this FREE online event\, we’ll be hearing more about the recently launched\, pioneering National Hedgehog Monitoring Programme (NHMP). Hedgehog Officer Grace Johnson will be joined by NHMP Coordinator Henrietta Pringle\, to discuss the history of the project\, future plans and how to get involved. Find out more about the new NHMP HERE. \nHedgehog Street is a joint campaign by People’s Trust for Endangered Species and The British Hedgehog Preservation Society. \nWe’ll be joined by: \nHenrietta Pringle\, NHMP Coordinator \nGrace Johnson\, Hedgehog Officer \nDate: Tuesday 7th May 2024 \nTime: 6-7pm \nCost: Free \nVenue: Online (via Zoom)
URL:https://ptes.org/event/an-evening-with-hedgehog-street-nhmp-special-tuesday-7th-may-2024/
LOCATION:Online
CATEGORIES:Training courses,Hedgehogs
ATTACH;FMTTYPE=image/jpeg:https://ptes.org/wp-content/uploads/2024/04/An-evening-with-Hedgehog-Street-INSTAGRAM-NHMP-italic-scaled.jpg
END:VEVENT
END:VCALENDAR