BEGIN:VCALENDAR
VERSION:2.0
PRODID:-//People&#039;s Trust for Endangered Species - ECPv6.15.14//NONSGML v1.0//EN
CALSCALE:GREGORIAN
METHOD:PUBLISH
X-ORIGINAL-URL:https://ptes.org
X-WR-CALDESC:Events for People&#039;s Trust for Endangered Species
REFRESH-INTERVAL;VALUE=DURATION:PT1H
X-Robots-Tag:noindex
X-PUBLISHED-TTL:PT1H
BEGIN:VTIMEZONE
TZID:Europe/London
BEGIN:DAYLIGHT
TZOFFSETFROM:+0000
TZOFFSETTO:+0100
TZNAME:BST
DTSTART:20170326T010000
END:DAYLIGHT
BEGIN:STANDARD
TZOFFSETFROM:+0100
TZOFFSETTO:+0000
TZNAME:GMT
DTSTART:20171029T010000
END:STANDARD
BEGIN:DAYLIGHT
TZOFFSETFROM:+0000
TZOFFSETTO:+0100
TZNAME:BST
DTSTART:20180325T010000
END:DAYLIGHT
BEGIN:STANDARD
TZOFFSETFROM:+0100
TZOFFSETTO:+0000
TZNAME:GMT
DTSTART:20181028T010000
END:STANDARD
BEGIN:DAYLIGHT
TZOFFSETFROM:+0000
TZOFFSETTO:+0100
TZNAME:BST
DTSTART:20190331T010000
END:DAYLIGHT
BEGIN:STANDARD
TZOFFSETFROM:+0100
TZOFFSETTO:+0000
TZNAME:GMT
DTSTART:20191027T010000
END:STANDARD
END:VTIMEZONE
BEGIN:VTIMEZONE
TZID:UTC
BEGIN:STANDARD
TZOFFSETFROM:+0000
TZOFFSETTO:+0000
TZNAME:UTC
DTSTART:20170101T000000
END:STANDARD
END:VTIMEZONE
BEGIN:VEVENT
DTSTART;TZID=Europe/London:20181130T110000
DTEND;TZID=Europe/London:20181130T170000
DTSTAMP:20260420T143910
CREATED:20180405T101200Z
LAST-MODIFIED:20181016T124407Z
UID:41157-1543575600-1543597200@ptes.org
SUMMARY:Starling Murmuration & Somerset Wildlife Spectacular- 30th November 2018
DESCRIPTION:This event is now fully booked.  Please see our later dates or to be added to a waiting list please contact Enquiries@ptes.org. \nA day on the Somerset levels culminating in photographing the incredible million-strong starling roost spectacular. The daytime session will focus on the diverse local wildlife which may include otters\, bitterns\, egrets and kingfishers. Then just before sunset prepare to photograph the drama of the huge starling clouds. Suitable for those with an interest in wildlife and photography at any level. \nLeader: Renowned wildlife photographer and author Iain Green.\nItinerary: You will meet Iain near Meare at 11am. The event should finish by 5pm. Please bring a packed lunch. \n*DISCOUNT FOR PTES SUPPORTERS*\nFor people giving to PTES on a monthly basis\, receive a £5 discount on this event by adding the following coupon at the checkout: £5-Off-Wildlife-Encounter. Become a supporter today to claim your discount..\nBy booking on this event you are agreeing to events terms and conditions.
URL:https://ptes.org/event/starling-murmuration-somerset-wildlife-spectacular-30th-november-2018/
LOCATION:Nr Meare\, Meare\, Somerset\, BA6 9SX\, United Kingdom
CATEGORIES:Birds,Photography,Wildlife Events
ATTACH;FMTTYPE=image/jpeg:https://ptes.org/wp-content/uploads/2014/08/StarlingMurm3-I-Green-e1409237205819.jpg
GEO:51.1511618;-2.7910233
END:VEVENT
BEGIN:VEVENT
DTSTART;TZID=UTC:20181214T103000
DTEND;TZID=UTC:20181214T163000
DTSTAMP:20260420T143910
CREATED:20180405T101910Z
LAST-MODIFIED:20181108T111615Z
UID:41159-1544783400-1544805000@ptes.org
SUMMARY:Starling Murmuration & Somerset Wildlife Spectacular- 14th December 2018
DESCRIPTION:A day on the Somerset levels culminating in photographing the incredible million-strong starling roost spectacular. The daytime session will focus on the diverse local wildlife which may include otters\, bitterns\, egrets and kingfishers. Then just before sunset prepare to photograph the drama of the huge starling clouds. Suitable for those with an interest in wildlife and photography at any level. \nLeader: Renowned wildlife photographer and author Iain Green. \nItinerary: You will meet Iain near Meare at 10.30am. The event should finish by 4.30pm. Please bring a packed lunch. \n*DISCOUNT FOR PTES SUPPORTERS*\nFor people giving to PTES on a monthly basis\, receive a £5 discount on this event by adding the following coupon at the checkout: £5-Off-Wildlife-Encounter. Become a supporter today to claim your discount..\nBy booking on this event you are agreeing to events terms and conditions. \n 
URL:https://ptes.org/event/starling-murmuration-somerset-wildlife-spectacular-14th-december-2018/
LOCATION:Nr Meare\, Meare\, Somerset\, BA6 9SX\, United Kingdom
CATEGORIES:Photography,Wildlife Events
ATTACH;FMTTYPE=image/jpeg:https://ptes.org/wp-content/uploads/2014/08/StarlingMurm3-I-Green-e1409237205819.jpg
GEO:51.1511618;-2.7910233
END:VEVENT
BEGIN:VEVENT
DTSTART;TZID=UTC:20190118T110000
DTEND;TZID=UTC:20190118T170000
DTSTAMP:20260420T143910
CREATED:20181015T092254Z
LAST-MODIFIED:20181102T115734Z
UID:43100-1547809200-1547830800@ptes.org
SUMMARY:Starling Murmuration & Somerset Wildlife Spectacular - 18th January 2019
DESCRIPTION:This event is now fully booked.  Please see our later dates or to be added to a waiting list please contact Enquiries@ptes.org. \nA day on the Somerset levels culminating in photographing the incredible million-strong starling roost spectacular. The daytime session will focus on the diverse local wildlife which may include otters\, bitterns\, egrets and kingfishers. Then just before sunset prepare to photograph the drama of the huge starling clouds. Suitable for those with an interest in wildlife and photography at any level. \nLeader: Renowned wildlife photographer and author Iain Green. \nItinerary: You will meet Iain near Meare at 11am. The event should finish by 5pm. Please bring a packed lunch. \n\n*DISCOUNT FOR PTES SUPPORTERS*\nFor people giving to PTES on a monthly basis\, receive a £5 discount on this event by adding the following coupon at the checkout: £5-Off-Wildlife-Encounter. Become a supporter today to claim your discount. \nBy booking on this event you are agreeing to our events terms and conditions.
URL:https://ptes.org/event/starling-murmuration-somerset-wildlife-spectacular-18th-january-2019/
LOCATION:Nr Meare\, Meare\, Somerset\, BA6 9SX\, United Kingdom
CATEGORIES:Birds,Photography,Wildlife Events
ATTACH;FMTTYPE=image/jpeg:https://ptes.org/wp-content/uploads/2014/08/StarlingMurm3-I-Green-e1409237205819.jpg
GEO:51.1511618;-2.7910233
END:VEVENT
BEGIN:VEVENT
DTSTART;TZID=UTC:20190215T120000
DTEND;TZID=UTC:20190215T180000
DTSTAMP:20260420T143910
CREATED:20181015T093938Z
LAST-MODIFIED:20190214T100809Z
UID:43103-1550232000-1550253600@ptes.org
SUMMARY:Starling Murmuration & Somerset Wildlife Spectacular - 15th February 2019
DESCRIPTION:A day on the Somerset levels culminating in photographing the incredible million-strong starling roost spectacular. The daytime session will focus on the diverse local wildlife which may include otters\, bitterns\, egrets and kingfishers. Then just before sunset prepare to photograph the drama of the huge starling clouds. Suitable for those with an interest in wildlife and photography at any level. \nLeader: Renowned wildlife photographer and author Iain Green. \nItinerary: You will meet Iain near Meare at 12pm. The event should finish by 6pm. Please bring a packed lunch. \n\n*DISCOUNT FOR PTES SUPPORTERS*\nFor people giving to PTES on a monthly basis\, receive a £5 discount on this event by adding the following coupon at the checkout: £5-Off-Wildlife-Encounter. Become a supporter today to claim your discount. \nBy booking on this event you are agreeing to our events terms and conditions. \n 
URL:https://ptes.org/event/starling-murmuration-somerset-wildlife-spectacular-15th-february-2019/
LOCATION:Nr Meare\, Meare\, Somerset\, BA6 9SX\, United Kingdom
CATEGORIES:Birds,Photography,Wildlife Events
ATTACH;FMTTYPE=image/jpeg:https://ptes.org/wp-content/uploads/2014/08/StarlingMurm3-I-Green-e1409237205819.jpg
GEO:51.1511618;-2.7910233
END:VEVENT
BEGIN:VEVENT
DTSTART;TZID=UTC:20190517T090000
DTEND;TZID=UTC:20190517T150000
DTSTAMP:20260420T143910
CREATED:20181101T115808Z
LAST-MODIFIED:20190329T111405Z
UID:43372-1558083600-1558105200@ptes.org
SUMMARY:Spring River and Water Vole Safari 2019
DESCRIPTION:An exclusive photography workshop in a fantastic location famous for its water voles and a host of other wildlife. Practical tuition will be tailored to the needs of those attending and will be suitable for beginners. An ideal gift for those interested in wildlife and photography at any level. \nLeader: Experienced wildlife and environmental photographer Iain Green. \nItinerary: You will meet Iain at The Chipping at 9.00am. The event should finish by 3.00pm. Please bring a packed lunch. \n\n*DISCOUNT FOR PTES SUPPORTERS*\nFor people giving to PTES on a monthly basis\, receive a £5 discount on this event by adding the following coupon at the checkout: £5-Off-Wildlife-Encounter. Become a supporter today to claim your discount. \nBy booking on this event you are agreeing to our events terms and conditions.
URL:https://ptes.org/event/spring-river-and-water-vole-safari-2019/
LOCATION:The Chipping\, Kingswood\, Wotton-under-Edge\, GL12 8RT\, United Kingdom
CATEGORIES:Photography,Wildlife Events,Water voles
ATTACH;FMTTYPE=image/jpeg:https://ptes.org/wp-content/uploads/2014/06/wv-main.jpg
GEO:51.627609;-2.3668368
X-APPLE-STRUCTURED-LOCATION;VALUE=URI;X-ADDRESS=The Chipping Kingswood Wotton-under-Edge GL12 8RT United Kingdom;X-APPLE-RADIUS=500;X-TITLE=Kingswood:geo:-2.3668368,51.627609
END:VEVENT
BEGIN:VEVENT
DTSTART;TZID=UTC:20190605T113000
DTEND;TZID=UTC:20190605T173000
DTSTAMP:20260420T143910
CREATED:20190314T092447Z
LAST-MODIFIED:20190528T082000Z
UID:45044-1559734200-1559755800@ptes.org
SUMMARY:Summer on the Somerset Levels June 2019
DESCRIPTION:**THIS EVENT IS NOW FULL- to be added to a waiting list please email enquiries@ptes.org** A day exploring the Somerset levels and photographing its amazing wildlife\, beginning with a session looking at composition\, photographic technique and equipment. Through the day you will photograph the diverse local wildlife\, including rarer species such as otters and bitterns (although sightings can never be guaranteed!). June is an amazing time for dragonflies\, breeding birds\, wildflowers and so much more. Suitable for those with an interest in wildlife and photography at any level. \nLeader: Renowned wildlife photographer and author Iain Green. \nItinerary: You will meet Iain in Westhay at 11.30am. The event should finish by 5.30pm. Please bring a packed lunch. \nNB: Please add all attendees names to the Additonal information section on the booking form. \n\n*DISCOUNT FOR PTES SUPPORTERS*\nFor people giving to PTES on a monthly basis\, receive a £5 discount on this event by adding the following coupon at the checkout: £5-Off-Wildlife-Encounter. Become a supporter today to claim your discount.  \nBy booking on this event you are agreeing to our events terms and conditions.
URL:https://ptes.org/event/summer-on-the-somerset-levels-june-2019/
LOCATION:Westhay\, Westhay\, Glastonbury\, Somerset\, United Kingdom
CATEGORIES:Photography,Wildlife Events
ATTACH;FMTTYPE=image/jpeg:https://ptes.org/wp-content/uploads/2014/06/Otter9-A.jpg
GEO:51.1783794;-2.8085874
X-APPLE-STRUCTURED-LOCATION;VALUE=URI;X-ADDRESS=Westhay Westhay Glastonbury Somerset United Kingdom;X-APPLE-RADIUS=500;X-TITLE=Westhay:geo:-2.8085874,51.1783794
END:VEVENT
BEGIN:VEVENT
DTSTART;TZID=UTC:20191129T103000
DTEND;TZID=UTC:20191129T163000
DTSTAMP:20260420T143910
CREATED:20190314T094546Z
LAST-MODIFIED:20191105T112922Z
UID:45047-1575023400-1575045000@ptes.org
SUMMARY:Starling Murmuration & Somerset Wildlife Spectacular - Nov 2019
DESCRIPTION:***This event is now fully booked. Please see our next event in Dec*** A day on the Somerset levels culminating in photographing the incredible million-strong starling roost spectacular. The daytime session will focus on the diverse local wildlife which may include otters\, bitterns\, egrets and kingfishers. Then just before sunset prepare to photograph the drama of the huge starling clouds. Suitable for those with an interest in wildlife and photography at any level. \nLeader: Renowned wildlife photographer and author Iain Green. \nItinerary: You will meet Iain near Meare at 10.30am. The event should finish by 4.30pm. Please bring a packed lunch. \n\n*DISCOUNT FOR PTES SUPPORTERS*\nFor people giving to PTES on a monthly basis\, receive a £5 discount on this event by adding the following coupon at the checkout: £5-Off-Wildlife-Encounter. Become a supporter today to claim your discount. \nBy booking on this event you are agreeing to our events terms and conditions. \n 
URL:https://ptes.org/event/starling-murmuration-somerset-wildlife-spectacular-nov-2019/
LOCATION:Nr Meare\, Meare\, Somerset\, BA6 9SX\, United Kingdom
CATEGORIES:Photography,Wildlife Events
ATTACH;FMTTYPE=image/jpeg:https://ptes.org/wp-content/uploads/2014/08/StarlingMurm3-I-Green-e1409237205819.jpg
GEO:51.1511618;-2.7910233
END:VEVENT
BEGIN:VEVENT
DTSTART;TZID=UTC:20191212T103000
DTEND;TZID=UTC:20191212T163000
DTSTAMP:20260420T143910
CREATED:20190314T100721Z
LAST-MODIFIED:20190926T103835Z
UID:45050-1576146600-1576168200@ptes.org
SUMMARY:Starling Murmuration & Somerset Wildlife Spectacular - Dec 2019
DESCRIPTION:A day on the Somerset levels culminating in photographing the incredible million-strong starling roost spectacular. The daytime session will focus on the diverse local wildlife which may include otters\, bitterns\, egrets and kingfishers. Then just before sunset prepare to photograph the drama of the huge starling clouds. Suitable for those with an interest in wildlife and photography at any level. \nLeader: Renowned wildlife photographer and author Iain Green. \nItinerary: You will meet Iain near Meare at 10.30am. The event should finish by 4.30pm. Please bring a packed lunch. \n\n*DISCOUNT FOR PTES SUPPORTERS*\nFor people giving to PTES on a monthly basis\, receive a £5 discount on this event by adding the following coupon at the checkout: £5-Off-Wildlife-Encounter. Become a supporter today to claim your discount. \nBy booking on this event you are agreeing to our events terms and conditions. \n 
URL:https://ptes.org/event/starling-murmuration-somerset-wildlife-spectacular-dec-2019/
LOCATION:Nr Meare\, Meare\, Somerset\, BA6 9SX\, United Kingdom
CATEGORIES:Photography,Wildlife Events
ATTACH;FMTTYPE=image/jpeg:https://ptes.org/wp-content/uploads/2014/08/StarlingMurm3-I-Green-e1409237205819.jpg
GEO:51.1511618;-2.7910233
END:VEVENT
BEGIN:VEVENT
DTSTART;TZID=UTC:20200124T110000
DTEND;TZID=UTC:20200124T170000
DTSTAMP:20260420T143910
CREATED:20190926T093011Z
LAST-MODIFIED:20191204T101822Z
UID:48146-1579863600-1579885200@ptes.org
SUMMARY:Starling Murmuration & Somerset Wildlife Spectacular - Jan 2020
DESCRIPTION:**This event is now FULL but please see our other dates** A day on the Somerset levels culminating in photographing the incredible million-strong starling roost spectacular. The daytime session will focus on the diverse local wildlife which may include otters\, bitterns\, egrets and kingfishers. Then just before sunset prepare to photograph the drama of the huge starling clouds. Suitable for those with an interest in wildlife and photography at any level. \nLeader: Renowned wildlife photographer and author Iain Green. \nItinerary: You will meet Iain near Meare at 11am. The event should finish by 5pm. Please bring a packed lunch. \n\n*DISCOUNT FOR PTES SUPPORTERS*\nFor people giving to PTES on a monthly basis\, receive a £5 discount on this event by adding the following coupon at the checkout: £5-Off-Wildlife-Encounter. Become a supporter today to claim your discount. \nBy booking on this event you are agreeing to our events terms and conditions.
URL:https://ptes.org/event/starling-murmuration-somerset-wildlife-spectacular-jan-2020/
LOCATION:Nr Meare\, Meare\, Somerset\, BA6 9SX\, United Kingdom
CATEGORIES:Birds,Photography,Wildlife Events
ATTACH;FMTTYPE=image/jpeg:https://ptes.org/wp-content/uploads/2014/08/StarlingMurm3-I-Green-e1409237205819.jpg
GEO:51.1511618;-2.7910233
END:VEVENT
BEGIN:VEVENT
DTSTART;TZID=UTC:20200213T113000
DTEND;TZID=UTC:20200213T173000
DTSTAMP:20260420T143910
CREATED:20191128T104754Z
LAST-MODIFIED:20191128T104947Z
UID:49944-1581593400-1581615000@ptes.org
SUMMARY:Starling Murmuration & Somerset Wildlife Spectacular - 13th Feb 2020
DESCRIPTION:A day on the Somerset levels culminating in photographing the incredible million-strong starling roost spectacular. The daytime session will focus on the diverse local wildlife which may include otters\, bitterns\, egrets and kingfishers. Then just before sunset prepare to photograph the drama of the huge starling clouds. Suitable for those with an interest in wildlife and photography at any level. Why not buy a pair of tickets as a Valentine’s Day treat?! \nLeader: Renowned wildlife photographer and author Iain Green. \nItinerary: You will meet Iain near Meare at 11.30am. The event should finish by 5.30pm. Please bring a packed lunch. \n\n*DISCOUNT FOR PTES SUPPORTERS*\nFor people giving to PTES on a monthly basis\, receive a £5 discount on this event by adding the following coupon at the checkout: £5-Off-Wildlife-Encounter. Become a supporter today to claim your discount. \nBy booking on this event you are agreeing to our events terms and conditions.
URL:https://ptes.org/event/starling-murmuration-somerset-wildlife-spectacular-13th-feb-2020/
LOCATION:Nr Meare\, Meare\, Somerset\, BA6 9SX\, United Kingdom
CATEGORIES:Birds,Photography,Wildlife Events
ATTACH;FMTTYPE=image/jpeg:https://ptes.org/wp-content/uploads/2014/08/StarlingMurm3-I-Green-e1409237205819.jpg
GEO:51.1511618;-2.7910233
END:VEVENT
BEGIN:VEVENT
DTSTART;TZID=UTC:20200214T113000
DTEND;TZID=UTC:20200214T173000
DTSTAMP:20260420T143910
CREATED:20190926T093908Z
LAST-MODIFIED:20200114T105353Z
UID:48148-1581679800-1581701400@ptes.org
SUMMARY:Starling Murmuration & Somerset Wildlife Spectacular - 14th Feb 2020
DESCRIPTION:**This event is now FULL but please see our other dates**  A day on the Somerset levels culminating in photographing the incredible million-strong starling roost spectacular. The daytime session will focus on the diverse local wildlife which may include otters\, bitterns\, egrets and kingfishers. Then just before sunset prepare to photograph the drama of the huge starling clouds. Suitable for those with an interest in wildlife and photography at any level. Why not buy a pair of tickets as a Valentine’s Day treat?! \nLeader: Renowned wildlife photographer and author Iain Green. \nItinerary: You will meet Iain near Meare at 11.30am. The event should finish by 5.30pm. Please bring a packed lunch. \n\n*DISCOUNT FOR PTES SUPPORTERS*\nFor people giving to PTES on a monthly basis\, receive a £5 discount on this event by adding the following coupon at the checkout: £5-Off-Wildlife-Encounter. Become a supporter today to claim your discount. \nBy booking on this event you are agreeing to our events terms and conditions.
URL:https://ptes.org/event/starling-murmuration-somerset-wildlife-spectacular-feb-2020/
LOCATION:Nr Meare\, Meare\, Somerset\, BA6 9SX\, United Kingdom
CATEGORIES:Birds,Photography,Wildlife Events
ATTACH;FMTTYPE=image/jpeg:https://ptes.org/wp-content/uploads/2014/08/StarlingMurm3-I-Green-e1409237205819.jpg
GEO:51.1511618;-2.7910233
END:VEVENT
BEGIN:VEVENT
DTSTART;TZID=UTC:20201119T110000
DTEND;TZID=UTC:20201119T170000
DTSTAMP:20260420T143910
CREATED:20201001T103319Z
LAST-MODIFIED:20201103T102904Z
UID:52700-1605783600-1605805200@ptes.org
SUMMARY:(POSTPONED) Starling Murmuration & Somerset Wildlife Spectacular - Nov 19th 2020
DESCRIPTION:THIS EVENT IS NO LONGER ABLE TO GO AHEAD DUE TO CURRENT GOVERNMENT GUIDELINES \nDue to recent announcement by the government\, we are not able to hold this event at this current time. We are hoping to postpone the event until early next year and will be announcing when and if this event can go ahead on our website and social media channels.  \nBook tickets now\nA day on the Somerset levels culminating in photographing the incredible million-strong starling roost spectacular. The daytime session will focus on the diverse local wildlife which may include otters\, bitterns\, egrets and kingfishers. Then just before sunset prepare to photograph the drama of the huge starling clouds. Suitable for those with an interest in wildlife and photography at any level. \nLeader: Renowned wildlife photographer and author Iain Green. \nItinerary: You will meet Iain near Meare at 11.30am. The event should finish by 5.30pm. Please bring a packed lunch. \nImportant information: This course will follow the latest Government coronavirus guidance. At all times participants and course leader will be outside and will adhere to social distancing guidelines. Please do not attend if you or a member of your household has symptoms of coronavirus. Please also bring all your own food and drink for the day. Participants will be refunded or the event will be rearranged if the date cannot go ahead due to coronavirus restrictions or should the leader have to self-isolate. \n\n*DISCOUNT FOR PTES SUPPORTERS*\nFor people giving to PTES on a monthly basis\, receive a £5 discount on this event by adding the following coupon at the checkout: £5-Off-Wildlife-Encounter. Become a supporter today to claim your discount.\nBy booking on this event you are agreeing to our events terms and conditions. \nBook tickets now
URL:https://ptes.org/event/starling-murmuration-somerset-wildlife-spectacular/
LOCATION:Nr Meare\, Meare\, Somerset\, BA6 9SX\, United Kingdom
CATEGORIES:Photography,Wildlife Events
ATTACH;FMTTYPE=image/jpeg:https://ptes.org/wp-content/uploads/2020/07/starling-murmuration-with-person-credit-Iain-Green-wildlifewonder.co_.uk_.jpg
GEO:51.1511618;-2.7910233
END:VEVENT
BEGIN:VEVENT
DTSTART;TZID=UTC:20201211T110000
DTEND;TZID=UTC:20201211T170000
DTSTAMP:20260420T143910
CREATED:20201006T162224Z
LAST-MODIFIED:20201103T103603Z
UID:53054-1607684400-1607706000@ptes.org
SUMMARY:(POSTPONED) Starling Murmuration & Somerset Wildlife Spectacular – Dec 11th 2020
DESCRIPTION:THIS EVENT IS NO LONGER ABLE TO GO AHEAD DUE TO CURRENT GOVERNMENT GUIDELINES \nDue to recent announcements by the government\, we are not able to hold this event at this current time. We are hoping to postpone the event until early next year and will be announcing when and if this event can go ahead on our website and social media channels.  \nBook tickets now\nA day on the Somerset levels culminating in photographing the incredible million-strong starling roost spectacular. The daytime session will focus on the diverse local wildlife which may include otters\, bitterns\, egrets and kingfishers. Then just before sunset prepare to photograph the drama of the huge starling clouds. Suitable for those with an interest in wildlife and photography at any level. \nLeader: Renowned wildlife photographer and author Iain Green. \nItinerary: You will meet Iain near Meare at 11.30am. The event should finish by 5.30pm. Please bring a packed lunch. \nImportant information: This course will follow the latest Government coronavirus guidance. At all times participants and course leader will be outside and will adhere to social distancing guidelines. Please do not attend if you or a member of your household has symptoms of coronavirus. Please also bring all your own food and drink for the day. Participants will be refunded or the event will be rearranged if the date cannot go ahead due to coronavirus restrictions or should the leader have to self-isolate. \n\n*DISCOUNT FOR PTES SUPPORTERS*\nFor people giving to PTES on a monthly basis\, receive a £5 discount on this event by adding the following coupon at the checkout: £5-Off-Wildlife-Encounter. Become a supporter today to claim your discount.\nBy booking on this event you are agreeing to our events terms and conditions. \nBook tickets now
URL:https://ptes.org/event/starling-murmuration-somerset-wildlife-spectacular-dec-11th-2020/
LOCATION:Nr Meare\, Meare\, Somerset\, BA6 9SX\, United Kingdom
CATEGORIES:Photography,Wildlife Events
ATTACH;FMTTYPE=image/jpeg:https://ptes.org/wp-content/uploads/2020/07/starling-murmuration-with-person-credit-Iain-Green-wildlifewonder.co_.uk_-2.jpg
GEO:51.1511618;-2.7910233
END:VEVENT
END:VCALENDAR